BEGIN:VCALENDAR
VERSION:2.0
PRODID:-//Bumpin&#039; 96.3 FM - Throwback Hitz - ECPv6.15.20//NONSGML v1.0//EN
CALSCALE:GREGORIAN
METHOD:PUBLISH
X-WR-CALNAME:Bumpin&#039; 96.3 FM - Throwback Hitz
X-ORIGINAL-URL:https://bumpin963.com
X-WR-CALDESC:Events for Bumpin&#039; 96.3 FM - Throwback Hitz
REFRESH-INTERVAL;VALUE=DURATION:PT1H
X-Robots-Tag:noindex
X-PUBLISHED-TTL:PT1H
BEGIN:VTIMEZONE
TZID:America/Chicago
BEGIN:DAYLIGHT
TZOFFSETFROM:-0600
TZOFFSETTO:-0500
TZNAME:CDT
DTSTART:20220313T080000
END:DAYLIGHT
BEGIN:STANDARD
TZOFFSETFROM:-0500
TZOFFSETTO:-0600
TZNAME:CST
DTSTART:20221106T070000
END:STANDARD
BEGIN:DAYLIGHT
TZOFFSETFROM:-0600
TZOFFSETTO:-0500
TZNAME:CDT
DTSTART:20230312T080000
END:DAYLIGHT
BEGIN:STANDARD
TZOFFSETFROM:-0500
TZOFFSETTO:-0600
TZNAME:CST
DTSTART:20231105T070000
END:STANDARD
BEGIN:DAYLIGHT
TZOFFSETFROM:-0600
TZOFFSETTO:-0500
TZNAME:CDT
DTSTART:20240310T080000
END:DAYLIGHT
BEGIN:STANDARD
TZOFFSETFROM:-0500
TZOFFSETTO:-0600
TZNAME:CST
DTSTART:20241103T070000
END:STANDARD
END:VTIMEZONE
BEGIN:VTIMEZONE
TZID:UTC
BEGIN:STANDARD
TZOFFSETFROM:+0000
TZOFFSETTO:+0000
TZNAME:UTC
DTSTART:20220101T000000
END:STANDARD
END:VTIMEZONE
BEGIN:VEVENT
DTSTART;TZID=America/Chicago:20230419T180000
DTEND;TZID=America/Chicago:20230419T230000
DTSTAMP:20260420T164010
CREATED:20230320T015221Z
LAST-MODIFIED:20230320T015256Z
UID:474-1681927200-1681945200@bumpin963.com
SUMMARY:Biker Night on Beale Street (Free Event)
DESCRIPTION:THE KICK OFF: Wednesday April 19th\, Biker Night on Beale Street.  6pm at Robert R. Church Park.  FREE EVENT. \nWednesday nights from 6:00pm-11:00pm from April 19\, 2023 – September 27\, 2023. \nMotorcycle enthusiasts descend on Downtown every Wednesday night to be able to park on the most iconic street in America! It’s all about bragging rights and strutting your stuff with amazing motorcycles of every shape\, size\, brand and year. Come on down to this family-friendly event\, and don’t forget your camera!
URL:https://bumpin963.com/event/biker-night-on-beale-street-free-event/
LOCATION:Beale Street\, 191 Beale St\, Memphis\, 38103\, United States
ATTACH;FMTTYPE=image/jpeg:https://bumpin963.com/wp-content/uploads/2023/03/BikenightonBealeStreet0039-L.jpg
END:VEVENT
BEGIN:VEVENT
DTSTART;TZID=America/Chicago:20230419T080000
DTEND;TZID=America/Chicago:20230419T170000
DTSTAMP:20260420T164010
CREATED:20230320T014754Z
LAST-MODIFIED:20230320T014754Z
UID:469-1681891200-1681923600@bumpin963.com
SUMMARY:Tell It Now PR Conference Clinic (Paid Event)
DESCRIPTION:Wednesday April 19th\, Power Media Solutions Presents Tell It Now PR Conference Clinic.  1900 S. Germantown Road from 8a-5p.  $75 Registration.  $175 Vendor Space Available.
URL:https://bumpin963.com/event/tell-it-now-pr-conference-clinic-paid-event/
LOCATION:The Great Hall & Conference Center\, 1900 S Germantown Rd\, Germantown\, TN\, 38138\, United States
CATEGORIES:Business Event
ATTACH;FMTTYPE=image/png:https://bumpin963.com/wp-content/uploads/2023/03/powermediasolutions-primarylogo-fnl_orig.png
END:VEVENT
BEGIN:VEVENT
DTSTART;TZID=UTC:20230403T160000
DTEND;TZID=UTC:20230403T190000
DTSTAMP:20260420T164010
CREATED:20230320T014108Z
LAST-MODIFIED:20230320T022746Z
UID:467-1680537600-1680548400@bumpin963.com
SUMMARY:Official March Day (Free Event)
DESCRIPTION:Monday April 3rd\, Official March Day\, at Robert R. Church Park. Honorable Guest Speaker:  Dr. Umar Johnson.  4pm.  FREE EVENT
URL:https://bumpin963.com/event/official-march-day-free-event/
LOCATION:Robert R. Church Park\, 191 Beale St\, Memphis\, TN\, 38103\, United States
ATTACH;FMTTYPE=image/jpeg:https://bumpin963.com/wp-content/uploads/2023/03/Official-March-Day-at-Robert-Church-Park.jpg
END:VEVENT
BEGIN:VEVENT
DTSTART;TZID=America/Chicago:20230402T180000
DTEND;TZID=America/Chicago:20230402T223000
DTSTAMP:20260420T164010
CREATED:20230320T013929Z
LAST-MODIFIED:20230320T024554Z
UID:464-1680458400-1680474600@bumpin963.com
SUMMARY:Black Fathers March Gala Night (Paid Event)
DESCRIPTION:Sunday April 2nd\, at Candle Light Ballroom\, 3015 Park Avenue at 6p.  Black Fathers March Gala Night.  Silent Auction Onsite. African Attire.  Dress to Impress. Special Guest: Dr. Umar Johnson. $100. Tickets via CashApp $ParentWap
URL:https://bumpin963.com/event/black-fathers-march-gala-night-paid-event/
LOCATION:Candle Light Ballroom\, 3015 Park Avenue\, Memphis\, TN\, 38114
ATTACH;FMTTYPE=image/jpeg:https://bumpin963.com/wp-content/uploads/2023/03/Black-Fathers-March-Gala-Night.jpg
END:VEVENT
BEGIN:VEVENT
DTSTART;TZID=America/Chicago:20230401T100000
DTEND;TZID=America/Chicago:20230401T170000
DTSTAMP:20260420T164010
CREATED:20230320T013116Z
LAST-MODIFIED:20230320T013116Z
UID:460-1680343200-1680368400@bumpin963.com
SUMMARY:Drum Major for Justice Parade
DESCRIPTION:The Drum Major for Justice Parade will travel rom Danny Thomas to Robert. R. Church Park. The event will also feature Family Fun Day with Dad\, Health and Job Fair and a Father and Child Tik Tok Challenge.  FREE EVENT
URL:https://bumpin963.com/event/drum-major-for-justice-parade/
LOCATION:Robert R. Church Park\, 191 Beale St\, Memphis\, TN\, 38103\, United States
ATTACH;FMTTYPE=image/jpeg:https://bumpin963.com/wp-content/uploads/2023/03/Robert-P-Church-Park.jpeg
END:VEVENT
END:VCALENDAR